BEGIN:VCALENDAR
VERSION:2.0
PRODID:-//SOUTH SHORE BUDS - ECPv6.15.17.1//NONSGML v1.0//EN
CALSCALE:GREGORIAN
METHOD:PUBLISH
X-ORIGINAL-URL:https://southshorebuds.com
X-WR-CALDESC:Events for SOUTH SHORE BUDS
REFRESH-INTERVAL;VALUE=DURATION:PT1H
X-Robots-Tag:noindex
X-PUBLISHED-TTL:PT1H
BEGIN:VTIMEZONE
TZID:America/New_York
BEGIN:DAYLIGHT
TZOFFSETFROM:-0500
TZOFFSETTO:-0400
TZNAME:EDT
DTSTART:20250309T070000
END:DAYLIGHT
BEGIN:STANDARD
TZOFFSETFROM:-0400
TZOFFSETTO:-0500
TZNAME:EST
DTSTART:20251102T060000
END:STANDARD
BEGIN:DAYLIGHT
TZOFFSETFROM:-0500
TZOFFSETTO:-0400
TZNAME:EDT
DTSTART:20260308T070000
END:DAYLIGHT
BEGIN:STANDARD
TZOFFSETFROM:-0400
TZOFFSETTO:-0500
TZNAME:EST
DTSTART:20261101T060000
END:STANDARD
BEGIN:DAYLIGHT
TZOFFSETFROM:-0500
TZOFFSETTO:-0400
TZNAME:EDT
DTSTART:20270314T070000
END:DAYLIGHT
BEGIN:STANDARD
TZOFFSETFROM:-0400
TZOFFSETTO:-0500
TZNAME:EST
DTSTART:20271107T060000
END:STANDARD
END:VTIMEZONE
BEGIN:VEVENT
DTSTART;TZID=America/New_York:20260305T150000
DTEND;TZID=America/New_York:20260305T180000
DTSTAMP:20260420T020246
CREATED:20260303T150319Z
LAST-MODIFIED:20260303T150401Z
UID:10000478-1772722800-1772733600@southshorebuds.com
SUMMARY:South Shore Buds Hosts Four Corners Supply Co Pop-Up — Shop Sustainable\, Shop Local
DESCRIPTION:We love bringing our community together — and this time\, we’re doing it with a purpose. South Shore Buds is proud to host Four Corners Supply Co for an in-store pop-up event right here at your favorite Marshfield dispensary. If you care about sustainability\, local business\, and making smarter choices for your home and the planet\, this is an event you don’t want to miss. \nMeet Four Corners Supply Co — Your Eco-Friendly South Shore Neighbor\nLocated just down the road at 1857 Ocean Street in Marshfield\, Four Corners Supply Co is one of the South Shore’s most beloved sustainable home goods shops. Their mission is simple but powerful: to make plastic-free\, eco-friendly\, and ethically sourced living easy and accessible for everyone. \nFrom plastic-free bath and body products to low-waste kitchen essentials\, bulk refill staples\, reusable home goods\, and thoughtful gifts — Four Corners Supply Co has built a reputation for curating products that are as kind to the planet as they are practical for everyday life. Whether you’re just starting your zero-waste journey or you’re a seasoned sustainability pro\, there’s something in their collection for you. \nOwned and operated right here on the South Shore\, Four Corners Supply Co is the kind of small business that makes our community stronger. Shopping with them means supporting a local\, independent shop that genuinely cares — about you\, about Marshfield\, and about the world we all share. \nWhat to Expect at the Pop-Up\nDuring the pop-up\, a representative from Four Corners Supply Co will be on-site at South Shore Buds\, giving you the opportunity to browse and shop their curated selection of sustainable goods in person. This is a rare chance to experience the Four Corners brand up close — ask questions\, discover new favorites\, and find eco-friendly swaps for everyday household products you already use. \nExpect to find items across categories like: \n\nPlastic-free bath and body — soaps\, dry brushes\, shampoo bars\, and more\nSustainable kitchen goods — reusable bags\, bamboo accessories\, compostable wrap\, and refillable bottles\nLow-waste home essentials — eco-friendly cleaning products\, laundry supplies\, and recycled paper goods\nGifts and cards — beautiful\, sustainable options for every occasion\n\nWhether you pop in to browse during your regular dispensary visit or make a special trip just for the pop-up\, you’ll leave with something worth bringing home. \nWhy We Love Partnering with Local Businesses\nAt South Shore Buds\, community is everything. As Marshfield’s award-winning\, #1 dispensary on the South Shore (Best of South Shore Winner 2025)\, we’ve always believed that our role goes beyond just offering premium cannabis products. We’re a gathering place — a neighborhood spot where people can connect\, discover\, and feel at home. \nThat’s why we make it a priority to host pop-up events that spotlight local vendors and small businesses doing incredible work right here on the South Shore. When you shop at a pop-up like this one\, you’re not just picking up a product — you’re investing in your neighbor’s dream\, reducing your environmental footprint\, and helping to keep the South Shore’s local economy thriving. \nFour Corners Supply Co shares our values around community\, intentionality\, and quality. This partnership just makes sense. \nPlan Your Visit\nCome by South Shore Buds on the day of the event to shop both your favorite cannabis products **and** Four Corners Supply Co’s thoughtfully sourced\, sustainable goods all in one stop. Our knowledgeable team will be on hand in-store\, as always\, to help you find exactly what you’re looking for from our wide selection of flower\, vapes\, edibles\, pre-rolls\, concentrates\, topicals\, and more. \nSouth Shore Buds\n📍 985 Plain Street\, Marshfield\, MA 02050\n🌐 southshorebuds.com \nFour Corners Supply Co\n📍 1857 Ocean Street\, Marshfield\, MA 02050\n🌐 fourcornerssupplyco.com \nThis event is open to all — 21+ to enter the dispensary\, as always. No purchase necessary to enjoy the pop-up shopping experience. \nDon’t Miss Out — Follow Us for Updates\nWant to stay in the loop on upcoming events\, vendor pop-ups\, product drops\, and in-store promotions? Follow @southshorebudsma on Instagram and keep an eye on our events page at southshorebuds.com. We host vendor events\, community activations\, and seasonal festivals throughout the year — and we’d love to see you there. \nWe can’t wait to share this experience with you. See you at the pop-up! 🌿 \n*Must be 21+ to enter South Shore Buds. Please consume responsibly. For events\, promotions\, and dispensary hours\, visit southshorebuds.com.*
URL:https://southshorebuds.com/event/south-shore-buds-hosts-four-corners-supply-co-pop-up-shop-sustainable-shop-local/
LOCATION:South Shore Buds\, 985 Plain Street\, Marshfield\, MA\, 02050\, United States
CATEGORIES:Community & Causes,In-Store Events
ATTACH;FMTTYPE=image/webp:https://southshorebuds.com/wp-content/uploads/2026/03/FCSC_Logo_Updated.webp
ORGANIZER;CN="South Shore Buds":MAILTO:info@southshorebuds.com
END:VEVENT
BEGIN:VEVENT
DTSTART;TZID=America/New_York:20260313T110000
DTEND;TZID=America/New_York:20260313T190000
DTSTAMP:20260420T020246
CREATED:20260303T161151Z
LAST-MODIFIED:20260303T161151Z
UID:10000479-1773399600-1773428400@southshorebuds.com
SUMMARY:Attack of the Foodies Pop-Up Returns to South Shore Buds
DESCRIPTION:Get ready\, Marshfield—Attack of the Foodies is coming back to South Shore Buds for another unforgettable in-store experience! Join us on Friday\, February 27th\, for a full-day creative market-style pop-up featuring exclusive merch\, bold designs\, and a whole lot of local flavor. Whether you missed the last one or you’re a returning fan\, this is your chance to connect with one of the South Shore’s favorite local brands. \n\n\n\n🍔 Who Is Attack of the Foodies?\nBorn out of a love for nostalgia\, culture\, and community\, Attack of the Foodies is a creative collective and lifestyle brand that merges food-themed characters\, edgy streetwear\, and fun lifestyle goods. They’ve gained a loyal fanbase across Instagram and YouTube\, where their hilarious\, food-centric shorts bring art and humor to life. \nThis isn’t your typical food pop-up—it’s an immersive brand experience built around bold visuals\, pop-culture humor\, plushies\, and premium-quality merch that speaks to foodies and cannabis culture lovers alike. \n🛍️ What You’ll Find at the Pop-Up\nHere’s a taste of what’s on the menu when Attack of the Foodies rolls into town: \n\nPlush Characters – Huggable food-inspired characters\, each with their own personality.\nStreetwear Apparel – Hoodies\, tees\, button-downs\, and beanies with unique hand-drawn designs.\nTapestries & Wall Art – Colorful décor for your sesh spot or chill space.\nDrinkware & Home Goods – Pint glasses\, drink coasters\, and kitchen flair that sparks conversation.\nValentine’s Gift Ideas – Find something quirky and heartfelt for your favorite foodie or cannabis fan.\nExpect exclusive items\, limited-edition drops\, and fresh additions to the lineup perfect for the season.\n\n💚 Vibe with the South Shore Buds Community\nWhile you’re shopping with Attack of the Foodies\, make time to browse the shelves at South Shore Buds. Our curated menu of cannabis flower\, distillate vapes\, pre-rolls\, and infused drinks pairs perfectly with a laid-back shopping experience. \nSome customer-favorite categories for a creative afternoon: \nDistillate Disposable Vaporizers – Compact\, flavorful\, and potent. Great for sharing stories and sparking laughs. \n❤️ Why You Shouldn’t Miss This\nWhether you’re shopping for yourself\, a Valentine’s gift\, or just want to explore something fun and different\, this is one of the most unique vendor events you’ll experience in the South Shore cannabis scene. \n✅ Support a Local Creative Brand \n✅ Find Limited Merch You Can’t Get Online \n✅ Enjoy Art\, Culture & Cannabis in One Place \n✅ Free to Attend – Must Be 21+ with Valid ID \n📸 Want a Sneak Peek? \n🎥 Check out their YouTube series to get a behind-the-scenes look at the characters and content. \n📲 Follow them on Instagram for product drops\, artist stories\, and pop-up previews. \n🗓️ Event Recap \nEvent: Attack of the Foodies at South Shore Buds \nDate: Friday\, February 27\, 2026 \nTime: 11:00 AM – 7:00 PM \nLocation: South Shore Buds\, 985 Plain Street\, Marshfield\, MA \nEntry: Free – 21+ Only with Valid ID
URL:https://southshorebuds.com/event/attack-of-the-foodies-pop-up-returns-to-south-shore-buds/
LOCATION:South Shore Buds\, 985 Plain Street\, Marshfield\, MA\, 02050\, United States
CATEGORIES:In-Store Events
ATTACH;FMTTYPE=image/png:https://southshorebuds.com/wp-content/uploads/2026/02/Screenshot-2026-02-06-at-4.57.07-PM.png
ORGANIZER;CN="South Shore Buds":MAILTO:info@southshorebuds.com
END:VEVENT
END:VCALENDAR